BEGIN:VCALENDAR
VERSION:2.0
PRODID:-//StivoZ.gr - ECPv5.16.4//NONSGML v1.0//EN
CALSCALE:GREGORIAN
METHOD:PUBLISH
X-WR-CALNAME:StivoZ.gr
X-ORIGINAL-URL:https://www.stivoz.gr
X-WR-CALDESC:StivoZ.gr - Εκδηλώσεις
BEGIN:VTIMEZONE
TZID:Europe/Athens
BEGIN:STANDARD
TZOFFSETFROM:+0200
TZOFFSETTO:+0200
TZNAME:EET
DTSTART:20090101T000000
END:STANDARD
END:VTIMEZONE
BEGIN:VEVENT
DTSTART;VALUE=DATE:20091108
DTEND;VALUE=DATE:20260422
DTSTAMP:20260421T165959
CREATED:20081101T095105Z
LAST-MODIFIED:20220622T083216Z
UID:28274-1257638400-0@www.stivoz.gr
SUMMARY:Κλασ.Μαραθώνιος & Π.Π.
DESCRIPTION:– www.stivoz.com/forum/showthread.php?3609 (αποτελέσματα)
URL:https://www.stivoz.gr/event/acm-2009/
CATEGORIES:Ημερολόγιο αγώνων
END:VEVENT
END:VCALENDAR