BEGIN:VCALENDAR
VERSION:2.0
PRODID:-//StivoZ.gr - ECPv5.16.4//NONSGML v1.0//EN
CALSCALE:GREGORIAN
METHOD:PUBLISH
X-WR-CALNAME:StivoZ.gr
X-ORIGINAL-URL:https://www.stivoz.gr
X-WR-CALDESC:StivoZ.gr - Εκδηλώσεις
BEGIN:VTIMEZONE
TZID:Europe/Athens
BEGIN:STANDARD
TZOFFSETFROM:+0200
TZOFFSETTO:+0200
TZNAME:EET
DTSTART:20080101T000000
END:STANDARD
END:VTIMEZONE
BEGIN:VEVENT
DTSTART;VALUE=DATE:20081109
DTEND;VALUE=DATE:20260422
DTSTAMP:20260421T055910
CREATED:20080116T091546Z
LAST-MODIFIED:20220622T083225Z
UID:28211-1226188800-0@www.stivoz.gr
SUMMARY:Κλασ.Μαραθώνιος & Π.Π.
DESCRIPTION:– www.stivoz.com/forum/showthread.php?16002 (αποτελέσματα) \nΙΣΤΟΡΙΚΗ ΑΦΕΤΗΡΙΑ ΜΑΡΑΘΩΝΙΟΥ – ΜΑΡΑΘΩΝΑΣ\n07.00: Εκκίνηση Μαραθωνίου Δρόμου – Δυναμικό Βάδισμα\nΕπιτρεπόμενη ώρα τερματισμού 1ου Δρομέα Δυναμ. Βαδίσματος: 11.30\nΤέλος Χρονικού Ορίου Ολοκλήρωσης Δυναμικού Βαδίσματος: 15.00 \n09.00: Εκκίνηση Μαραθωνίου Δρόμου\nΕκτιμώμενη ώρα τερματισμού 1ου Μαραθωνοδρόμου: 11.10-11.20\nΕκτιμώμενη ώρα τερματισμού 1ης Μαραθωνοδρόμου: 11.35-11.45\nΤέλος Χρονικού Ορίου Ολοκλήρωσης Μαραθωνίου: 15.00 \nΠΑΝΑΘΗΝΑΪΚΟ ΣΤΑΔΙΟ\n09.30: Εκκίνηση Αγώνων Δρόμου 5 και 10 χλμ.\nΕκτιμώμενη ώρα τερματισμού 1ων δρομέων Αγώνα 5 χλμ.: 09.45\nΕκτιμώμενη ώρα τερματισμού 1ων δρομέων Αγώνα 10 χλμ.: 10.00\nΤέλος Χρονικού Ορίου Ολοκλήρωσης Αγώνων 5-10 χλμ.: 11.00 \nΣΤΥΛΟΙ ΟΛΥΜΠΙΟΥ ΔΙΟΣ\n09.32: Εκκίνηση Αγώνα Special Olympics Hellas (1000 μ.)\nΕκτιμώμενη ώρα τερματισμού πρώτων αθλητών: 09.40\nΤέλος Χρονικού Ορίου Ολοκλήρωσης Αγώνα 1000 μ.: 11.00 \nΠΑΝΑΘΗΝΑΪΚΟ ΣΤΑΔΙΟ\n10.00 – 10.25: Απονομές Μεταλλίων Αγώνα Δρόμου 5 χλμ.\n10.25 – 10.30: Τιμητικές Απονομές Μεταλλίων Αγώνα Special\nOlympics Hellas (1000 μ.)  \nΒΑΣΙΛΙΣΣΗΣ ΟΛΓΑΣ (ΜΠΡΟΣΤΑ ΑΠΟ ΤΙΣ ΕΓΚΑΤΑΣΤΑΣΕΙΣ ΤΟΥ ΟΜΙΛΟΥ ΑΝΤΙΣΦΑΙΡΙΣΗΣ ΑΘΗΝΩΝ)\n10.30: Εκκίνηση Αγώνα Παιδιών COSMOTE (700 μ.)\nΕκτιμώμενη ώρα τερματισμού πρώτων αθλητών: 10.40\nΤέλος Χρονικού Ορίου Ολοκλήρωσης Αγώνα 700 μ.: 11.00 \nΠΑΝΑΘΗΝΑΪΚΟ ΣΤΑΔΙΟ\n10:15 – 10.45 Απονομές στους Νικητές των Αγώνων Δρόμου 5 & 10 χλμ.\, Παναθηναϊκό Στάδιο (είναι ανοιχτή στο κοινό η είσοδος στο Στάδιο\, οι θέσεις των επισήμων είναι στο κέντρο της εξέδρας στην πλευρά της αψίδας τερματισμού)\n11.10 (περίπου) Τερματισμός 1ου Μαραθωνοδρόμου\, Παναθηναϊκό Στάδιο\n11.45 – 12.15 Απονομές στους Νικητές του Μαραθωνίου Δρόμου\, Παναθηναϊκό Στάδιο\n15:00 Ολοκλήρωση Τερματισμού Μαραθωνοδρόμων
URL:https://www.stivoz.gr/event/acm-2008/
CATEGORIES:Ημερολόγιο αγώνων
END:VEVENT
END:VCALENDAR