BEGIN:VCALENDAR
VERSION:2.0
PRODID:-//StivoZ.gr - ECPv5.16.4//NONSGML v1.0//EN
CALSCALE:GREGORIAN
METHOD:PUBLISH
X-WR-CALNAME:StivoZ.gr
X-ORIGINAL-URL:https://www.stivoz.gr
X-WR-CALDESC:StivoZ.gr - Εκδηλώσεις
BEGIN:VTIMEZONE
TZID:Europe/Athens
BEGIN:STANDARD
TZOFFSETFROM:+0200
TZOFFSETTO:+0200
TZNAME:EET
DTSTART:20070101T000000
END:STANDARD
END:VTIMEZONE
BEGIN:VEVENT
DTSTART;VALUE=DATE:20071104
DTEND;VALUE=DATE:20260425
DTSTAMP:20260424T093612
CREATED:20070409T181119Z
LAST-MODIFIED:20220622T083247Z
UID:29356-1194134400-0@www.stivoz.gr
SUMMARY:Κλασ.Μαραθώνιος & Π.Π.
DESCRIPTION:http://www.athensclassicmarathon.gr/ \nΜαραθώνας \, 9πμ \nδιεξαγωγή λαικών αγώνων 5 & 10χλμ με εκκίνηση: Καλλιμάρμαρο \, 9:30 \nταυτόχρονη διεξαγωγη πανελληνίου πρωταθλήματος Μαραθωνίου \nπροκήρυξη
URL:https://www.stivoz.gr/event/acm-2007/
CATEGORIES:Ημερολόγιο αγώνων
END:VEVENT
END:VCALENDAR