BEGIN:VCALENDAR
VERSION:2.0
PRODID:-//StivoZ.gr - ECPv5.16.4//NONSGML v1.0//EN
CALSCALE:GREGORIAN
METHOD:PUBLISH
X-WR-CALNAME:StivoZ.gr
X-ORIGINAL-URL:https://www.stivoz.gr
X-WR-CALDESC:StivoZ.gr - Εκδηλώσεις
BEGIN:VTIMEZONE
TZID:Europe/Athens
BEGIN:DAYLIGHT
TZOFFSETFROM:+0200
TZOFFSETTO:+0300
TZNAME:EEST
DTSTART:20190331T010000
END:DAYLIGHT
BEGIN:STANDARD
TZOFFSETFROM:+0300
TZOFFSETTO:+0200
TZNAME:EET
DTSTART:20191027T010000
END:STANDARD
END:VTIMEZONE
BEGIN:VEVENT
DTSTART;VALUE=DATE:20190525
DTEND;VALUE=DATE:20190526
DTSTAMP:20260419T222256
CREATED:20190522T121226Z
LAST-MODIFIED:20190522T121226Z
UID:50074-1558742400-1558828799@www.stivoz.gr
SUMMARY:Αχίλλεια (Γρεβενά)
DESCRIPTION:Πρόγραμμα: \n15:30 ΜΗΚΟΣ ΠΚ Β΄ ΜΙΝΙ\n15:30 VORTEX ΠΠ Β΄\n15:30 50 μ. ΠΠ ΜΙΝΙ\n15:30 50 μ. ΠΚ ΜΙΝΙ\n15:45 VORTEX ΠΚ Β΄\n15:45 60 μ. ΠΠ Β΄\n16:00 60 μ. ΠΚ Β\n16:15 ΜΗΚΟΣ ΠΠ Β΄ ΜΙΝΙ\n16:15 80 μ. ΠΠ Α΄\n16:30 80 μ. ΠΚ Α΄\n16:45 ΥΨΟΣ ΠΚ Α΄\n16:45 100 μ. Α-Ε-Π\n17:10 100 μ. Γ-Ν-Κ\n17:35 ΜΗΚΟΣ Α-Ε-Π\n17:35 150 μ. ΠΠ Α΄\n17:50 150 μ. ΠΚ Α΄\n18:05 ΑΚΟΝΤΙΣΜΟΣ ΠΚ Α΄\n18:05 1000 μ. ΠΠ Α΄\n18:15 1000 μ. ΠΠ Β΄\n18:25 200 μ. Γ-Ν-Κ\n18:40 200 μ. Α-Ε-Π\n18:40 ΜΗΚΟΣ Γ-Ν-Κ\n18:55 1000 μ. ΠΚ Β΄\n19:05 800 μ. Α-Ε-Π\n19:05 ΑΚΟΝΤΙΣΜΟΣ ΠΠ Α΄\n19:25 4Χ100μ. Γ-Ν-Κ\n19:35 4Χ100μ. Α-Ε-Π\n19:45 400 μ. Γ-Ν-Κ
URL:https://www.stivoz.gr/event/achilleia-2019/
CATEGORIES:Ημερολόγιο αγώνων
END:VEVENT
END:VCALENDAR