BEGIN:VCALENDAR
VERSION:2.0
PRODID:-//StivoZ.gr - ECPv5.16.4//NONSGML v1.0//EN
CALSCALE:GREGORIAN
METHOD:PUBLISH
X-WR-CALNAME:StivoZ.gr
X-ORIGINAL-URL:https://www.stivoz.gr
X-WR-CALDESC:StivoZ.gr - Εκδηλώσεις
BEGIN:VTIMEZONE
TZID:Europe/Athens
BEGIN:STANDARD
TZOFFSETFROM:+0200
TZOFFSETTO:+0200
TZNAME:EET
DTSTART:20180101T000000
END:STANDARD
END:VTIMEZONE
BEGIN:VEVENT
DTSTART;VALUE=DATE:20180526
DTEND;VALUE=DATE:20260421
DTSTAMP:20260420T180950
CREATED:20180514T190103Z
LAST-MODIFIED:20200621T100129Z
UID:29360-1527292800-0@www.stivoz.gr
SUMMARY:Αχίλλεια (Γρεβενά)
DESCRIPTION:Σχετικά θέματα:\n– www.stivoz.com/forum/showthread.php?17652 (αποτελέσματα) \nΠρόγραμμα: \n15:00 KIDʼS ATHLETICS\n16:00 300 μ ΕΜΠ ΠΠ Α΄\n16:00 ΜΗΚΟΣ ΠΠ Β΄ ΜΙΝΙ\n16:00 ΣΦΑΙΡΟΒΟΛΙΑ Π\n16:15 50 μ. ΠΠ ΜΙΝΙ\n16:30 50 μ. ΠΚ ΜΙΝΙ\n16:45 60 μ. ΠΠ Β΄\n17:00 60 μ. ΠΚ Β\n17:00 ΜΗΚΟΣ ΠΚ Β΄ ΜΙΝΙ\n17:00 ΣΦΑΙΡΟΒΟΛΙΑ ΠΚ  Α΄\n17:20 80 μ. ΠΠ Α΄\n17:30 80 μ. ΠΚ Α΄\n17:40 100 μ. Α-Ε-Π\n17:50 100 μ. Γ-Ν-Κ\n18:00 ΜΗΚΟΣ Α-Ε-Π\n18:00 ΑΚΟΝΤΙΣΜΟΣ ΠΠ  Α΄\n18:00 150 μ. ΠΠ Α΄\n18:10 150 μ. ΠΚ Α΄\n18:20 400 μ. Α-Ε-Π\n18:30 800 μ. Γ-Ν-Κ\n18:40 1500 μ. Α-Ε-Π\n18:50 1000 μ. ΠΠ Α΄\n19:00 ΜΗΚΟΣ Γ-Ν-Κ\n19:00 ΑΚΟΝΤΙΣΜΟΣ ΠΚ  Α΄\n19:00 4 Χ 60 μ. ΠΠ Β΄\n19:10 4 Χ 60 μ. ΠΚ Β΄\n19:20 4 Χ 80 μ. ΠΠ Α΄\n19:30 4 Χ 80 μ. ΠΚ Α΄\n19:40 8 Χ 50 μ. ΠΠ ΜΙΝΙ\n19:50 8 Χ 50 μ. ΠΚ ΜΙΝΙ
URL:https://www.stivoz.gr/event/achilleia-2018/
CATEGORIES:Ημερολόγιο αγώνων
END:VEVENT
END:VCALENDAR