BEGIN:VCALENDAR
VERSION:2.0
PRODID:-//StivoZ.gr - ECPv5.16.4//NONSGML v1.0//EN
CALSCALE:GREGORIAN
METHOD:PUBLISH
X-WR-CALNAME:StivoZ.gr
X-ORIGINAL-URL:https://www.stivoz.gr
X-WR-CALDESC:StivoZ.gr - Εκδηλώσεις
BEGIN:VTIMEZONE
TZID:Europe/Athens
BEGIN:STANDARD
TZOFFSETFROM:+0200
TZOFFSETTO:+0200
TZNAME:EET
DTSTART:20080101T000000
END:STANDARD
END:VTIMEZONE
BEGIN:VEVENT
DTSTART;VALUE=DATE:20080905
DTEND;VALUE=DATE:20260421
DTSTAMP:20260420T164900
CREATED:20070910T093903Z
LAST-MODIFIED:20181208T172926Z
UID:28106-1220572800-0@www.stivoz.gr
SUMMARY:6o Golden L.: Bruxelles
DESCRIPTION:Σχετικά θέματα:\nhttp://www.stivoz.com/forum/showthread.php?t=2445\nhttp://www.stivoz.gr/?p=20375 \nhttp://www.memorialvandamme.be/\nhttp://www.sport.be/belgacommemorialvandamme/2008/eng/ \nProgram\n(Provisional) program Belgacom Memorial Van Damme 2008 \nMen: 100m\, 200m\, 400m\, 800m\, 1500m\, 5.000m\, 400m hurdles\, 3.000m steeple\, Pole Vault\, Long Jump and Javelin;\nWomen: 200m\, 800m\, 3.000m\, 100m hurdles\, 400m hurdles\, High Jump.  \nStade Roi Baudouin\nAvenue de Marathon\n1020 Brussels
URL:https://www.stivoz.gr/event/6o-golden-l-bruxelles/
CATEGORIES:Ημερολόγιο αγώνων
END:VEVENT
END:VCALENDAR