BEGIN:VCALENDAR
VERSION:2.0
PRODID:-//StivoZ.gr - ECPv5.16.4//NONSGML v1.0//EN
CALSCALE:GREGORIAN
METHOD:PUBLISH
X-WR-CALNAME:StivoZ.gr
X-ORIGINAL-URL:https://www.stivoz.gr
X-WR-CALDESC:StivoZ.gr - Εκδηλώσεις
BEGIN:VTIMEZONE
TZID:Europe/Athens
BEGIN:STANDARD
TZOFFSETFROM:+0200
TZOFFSETTO:+0200
TZNAME:EET
DTSTART:20160101T000000
END:STANDARD
END:VTIMEZONE
BEGIN:VEVENT
DTSTART;VALUE=DATE:20160117
DTEND;VALUE=DATE:20260420
DTSTAMP:20260419T162216
CREATED:20160112T075849Z
LAST-MODIFIED:20181208T172703Z
UID:29075-1452988800-0@www.stivoz.gr
SUMMARY:60ος δρόμος Κοτζιά (Ν.Σμύρνη - άλσος)
DESCRIPTION:Σχετικά θέματα:\n– www.stivoz.com/content.php?5301-O-Magginas-nikitis-sto-Alsos\n– www.stivoz.com/forum/showthread.php?14576 (αποτελέσματα) \n-> προκήρυξη\n-> συμμετοχές \nΠρόγραμμα: \n09.00 – 4.000μ. ΝΕΑΝΙΔΩΝ\n09.30 – 6.000μ. ΕΦΗΒΩΝ\n10.00 – 3.000μ. ΚΟΡΑΣΙΔΩΝ\n10.25 – 4.000μ. ΠΑΙΔΩΝ \n10.50 – 500μ. ΜΙΝΙ ΚΟΡΙΤΣΙΑ\n11.00 – 500μ. ΜΙΝΙ ΑΓΟΡΙΑ \n11.10 – 1.000μ. ΠΑΓΚΟΡΑΣΙΔΩΝ Β΄\n11.20 – 1.000μ. ΠΑΜΠΑΙΔΩΝ Β΄\n11.30 – 2.000μ. ΠΑΓΚΟΡΑΣΙΔΩΝ Α΄\n11.45 – 2.000μ. ΠΑΜΠΑΙΔΩΝ Α΄ \n12.00 –  6.000μ. ΓΥΝΑΙΚΩΝ Β΄& ΓΥΝΑΙΚΩΝ\n12.40 – 8.000μ. ΑΝΔΡΩΝ Β΄& ΑΝΔΡΩΝ \n\nΕ/Ν: 1997-1998\nΠ/Κ: 1999-2000\nΠΠ-ΠΚ Β’: 2003-2004\nΠΠ-ΠΚ Α’: 2001-2002\nμίνι: 2005-2006-2007\n \nΗ περιφερειακή διαδρομή είναι 800μ. (ενώ έχει οριστεί και διαδρομή 500μ.)
URL:https://www.stivoz.gr/event/60/
CATEGORIES:Ημερολόγιο αγώνων
END:VEVENT
END:VCALENDAR