BEGIN:VCALENDAR
VERSION:2.0
PRODID:-//StivoZ.gr - ECPv5.16.4//NONSGML v1.0//EN
CALSCALE:GREGORIAN
METHOD:PUBLISH
X-WR-CALNAME:StivoZ.gr
X-ORIGINAL-URL:https://www.stivoz.gr
X-WR-CALDESC:StivoZ.gr - Εκδηλώσεις
BEGIN:VTIMEZONE
TZID:Europe/Athens
BEGIN:STANDARD
TZOFFSETFROM:+0200
TZOFFSETTO:+0200
TZNAME:EET
DTSTART:20080101T000000
END:STANDARD
END:VTIMEZONE
BEGIN:VEVENT
DTSTART;VALUE=DATE:20080309
DTEND;VALUE=DATE:20260423
DTSTAMP:20260422T122903
CREATED:20071214T111323Z
LAST-MODIFIED:20181208T172944Z
UID:28196-1205020800-0@www.stivoz.gr
SUMMARY:6ος γύρος πόλεων - Βέρροια
DESCRIPTION:10.30 Τελετή έναρξης\n    11.00 1.000μ Κοριτσιών Δημοτικών Σχολείων\n    11.15 1.000μ Αγοριών Δημοτικών Σχολείων\n    11.30 1.500μ Κοριτσιών Γυμνασίων\n    11.45 1.500μ Αγοριών Γυμνασίων\n    12.00 4.000μ Γυναικών\n    12.30 6.000μ Ανδρών
URL:https://www.stivoz.gr/event/6/
CATEGORIES:Ημερολόγιο αγώνων
END:VEVENT
END:VCALENDAR