BEGIN:VCALENDAR
VERSION:2.0
PRODID:-//StivoZ.gr - ECPv5.16.4//NONSGML v1.0//EN
CALSCALE:GREGORIAN
METHOD:PUBLISH
X-WR-CALNAME:StivoZ.gr
X-ORIGINAL-URL:https://www.stivoz.gr
X-WR-CALDESC:StivoZ.gr - Εκδηλώσεις
BEGIN:VTIMEZONE
TZID:Europe/Athens
BEGIN:STANDARD
TZOFFSETFROM:+0200
TZOFFSETTO:+0200
TZNAME:EET
DTSTART:20080101T000000
END:STANDARD
END:VTIMEZONE
BEGIN:VEVENT
DTSTART;VALUE=DATE:20080829
DTEND;VALUE=DATE:20260421
DTSTAMP:20260420T124306
CREATED:20070910T093551Z
LAST-MODIFIED:20181208T172926Z
UID:28134-1219968000-0@www.stivoz.gr
SUMMARY:5o Golden.L.:Zuerich
DESCRIPTION:Σχετικά θέματα:\nhttp://www.stivoz.com/forum/showthread.php?t=2416\nhttp://www.stivoz.gr/?p=20369 \nhttp://www.weltklasse.ch/ \nΠρόγραμμα (τοπική ώρα) \n17:00 Uhr    Είσοδος  \n18:30 Uhr    Weltklasse Zuerich Nations’ Challenge \n19:15 Uhr    Παρουσίαση αθλητών και τελετή έναρξης \n20:00 Uhr    Αγωνες Golden League   \n22:00 Uhr    Τελετή λήξης (15′)      \nAF Golden League Disziplinen 2008\nΓ:            200m\, 800m\, 100m εμπ.\, Ύψος\nΑ:           100m\, 1500m\, 400m εμπ.\, 400m\, Μήκος\, Ακόντιο \nΕπιπρόσθετα αγωνίσματα Weltklasse Zuerich 2008\nΓ:             400m\, επικοντώ\nΑ:            3000m Steeple\, 5000m\, 110m εμπ.\, 4x100m “Zuerich Trophy”    \n   Weltklasse Zuerich | WorkBaslerstrasse 30 | CH-8048 ZuerichSchweiz\nWork+41 44 495 80 90 Fax+41 44 495 80 90 | office@weltklassezuerich.ch
URL:https://www.stivoz.gr/event/5o-golden-l-zuerich/
CATEGORIES:Ημερολόγιο αγώνων
END:VEVENT
END:VCALENDAR