BEGIN:VCALENDAR
VERSION:2.0
PRODID:-//StivoZ.gr - ECPv5.16.4//NONSGML v1.0//EN
CALSCALE:GREGORIAN
METHOD:PUBLISH
X-WR-CALNAME:StivoZ.gr
X-ORIGINAL-URL:https://www.stivoz.gr
X-WR-CALDESC:StivoZ.gr - Εκδηλώσεις
BEGIN:VTIMEZONE
TZID:Europe/Athens
BEGIN:STANDARD
TZOFFSETFROM:+0200
TZOFFSETTO:+0200
TZNAME:EET
DTSTART:20080101T000000
END:STANDARD
END:VTIMEZONE
BEGIN:VEVENT
DTSTART;VALUE=DATE:20080203
DTEND;VALUE=DATE:20260424
DTSTAMP:20260423T110609
CREATED:20071214T111254Z
LAST-MODIFIED:20181208T172945Z
UID:28195-1201996800-0@www.stivoz.gr
SUMMARY:5ος γύρος πόλεων - Φιλοθέη
DESCRIPTION:10.00 Κήρυξη-Έναρξη των Αγώνων από το Δήμαρχο Φιλοθέης\n10.10 1000μ Κοριτσιών 4ης–5ης–6ης Δημ. Σχολείων 96-97-98\n10.10 1000μ Αγοριών 4ης–5ης–6ης Δημ. Σχολείων 96-97-98\n10.10 1000μ Κοριτσιών Γυμνασίων γεν. μέχρι και 1993\n10.10 1000μ Αγοριών Γυμνασίων γεν. μέχρι και 1993\n10.40 4000μ Κορασίδων\n10.40 4000μ Νεανίδων\n10.40 4000μ Γυναικών\n10.40 4000μ Βετεράνων Γυναικών\n11.30 6000μ Παίδων\n11.30 6000μ Εφήβων\n11.30 6000μ Ανδρών\n11.30 6000μ Βετεράνων Α΄\n11.30 6000μ Βετεράνων Β΄
URL:https://www.stivoz.gr/event/5/
CATEGORIES:Ημερολόγιο αγώνων
END:VEVENT
END:VCALENDAR