BEGIN:VCALENDAR
VERSION:2.0
PRODID:-//StivoZ.gr - ECPv5.16.4//NONSGML v1.0//EN
CALSCALE:GREGORIAN
METHOD:PUBLISH
X-WR-CALNAME:StivoZ.gr
X-ORIGINAL-URL:https://www.stivoz.gr
X-WR-CALDESC:StivoZ.gr - Εκδηλώσεις
BEGIN:VTIMEZONE
TZID:Europe/Athens
BEGIN:STANDARD
TZOFFSETFROM:+0200
TZOFFSETTO:+0200
TZNAME:EET
DTSTART:20080101T000000
END:STANDARD
END:VTIMEZONE
BEGIN:VEVENT
DTSTART;VALUE=DATE:20080730
DTEND;VALUE=DATE:20260421
DTSTAMP:20260420T085901
CREATED:20080429T104851Z
LAST-MODIFIED:20181208T172926Z
UID:28229-1217376000-0@www.stivoz.gr
SUMMARY:5ο Ελλην.γκραν-πρι / τελικος (Θηβα)
DESCRIPTION:Τελικός grand prix\n“Χρηστος Βουδουρης 2008”\nΔημοτικό Στάδιο Θηβών \n18:30 Γ 100εμπ\n18:30 Γ επικοντω\n18:30 Γ δισκος\n19:00 Α σφαιρα\n19:00 Γ μηκος\n19:00 Α 100\n19:15 Γ 100\n19:30 Α 400\n19:45 Γ 400\n19:45 Α υψος\n19:45 Α δισκος\n20:00 Γ σφαιρα\n20:00 Α τριπλουν\n20:00 Α 800\n20:15 Γ 1500\n20:30 Α 3χλμ\n21:00 Α 400εμπ \nΟι διοργανωτές θα καλύψουν τη μετακίνηση/διατροφή/διαμονή των προσκεκλημένων αθλητών
URL:https://www.stivoz.gr/event/5-5/
CATEGORIES:Ημερολόγιο αγώνων
END:VEVENT
END:VCALENDAR