BEGIN:VCALENDAR
VERSION:2.0
PRODID:-//StivoZ.gr - ECPv5.16.4//NONSGML v1.0//EN
CALSCALE:GREGORIAN
METHOD:PUBLISH
X-WR-CALNAME:StivoZ.gr
X-ORIGINAL-URL:https://www.stivoz.gr
X-WR-CALDESC:StivoZ.gr - Εκδηλώσεις
BEGIN:VTIMEZONE
TZID:Europe/Athens
BEGIN:STANDARD
TZOFFSETFROM:+0200
TZOFFSETTO:+0200
TZNAME:EET
DTSTART:20080101T000000
END:STANDARD
END:VTIMEZONE
BEGIN:VEVENT
DTSTART;VALUE=DATE:20080718
DTEND;VALUE=DATE:20260420
DTSTAMP:20260419T234358
CREATED:20070910T093320Z
LAST-MODIFIED:20181208T172927Z
UID:28132-1216339200-0@www.stivoz.gr
SUMMARY:4o Golden L.: Paris
DESCRIPTION:http://www.meetinggazdefrance.com/\nstartlists: http://www.meetinggazdefrance.com/en/meeting_2008/plateau.html \n19:15 Entertainment “10 years”\n19:45  Men Javelin\n19:50 Women 1500m\n19:55   Men Pole Vault\n20:00   Women High Jump\n20:05 Men 400m Hurdles\n20:15 Men 400m\n20:23 Women 800m\n20:33 Women 5000m\n20:50   Men Long Jump\n20:53 Men 100m\n21:03 Men 110m Hurdles\n21:15 Women 100m Hurdles\n21:25 Men 3000m\n21:35 Women 200m\n21:43 Men 1500m\n21:51 Men 3000m Steeplechase
URL:https://www.stivoz.gr/event/4o-golden-l-paris/
CATEGORIES:Ημερολόγιο αγώνων
END:VEVENT
END:VCALENDAR