BEGIN:VCALENDAR
VERSION:2.0
PRODID:-//StivoZ.gr - ECPv5.16.4//NONSGML v1.0//EN
CALSCALE:GREGORIAN
METHOD:PUBLISH
X-WR-CALNAME:StivoZ.gr
X-ORIGINAL-URL:https://www.stivoz.gr
X-WR-CALDESC:StivoZ.gr - Εκδηλώσεις
BEGIN:VTIMEZONE
TZID:Europe/Athens
BEGIN:STANDARD
TZOFFSETFROM:+0200
TZOFFSETTO:+0200
TZNAME:EET
DTSTART:20130101T000000
END:STANDARD
END:VTIMEZONE
BEGIN:VEVENT
DTSTART;VALUE=DATE:20130228
DTEND;VALUE=DATE:20260423
DTSTAMP:20260422T052637
CREATED:20130228T104209Z
LAST-MODIFIED:20181208T172836Z
UID:28770-1362009600-0@www.stivoz.gr
SUMMARY:4ος Διεθνής Ορεινός Αγώνας Ψηλορείτη ''Psiloritis Race''
DESCRIPTION:Tην Κυριακή 2 Ιουνίου η μη κερδοσκοπική εταιρεία «Αγώνας Ψηλορείτη» θα πραγματοποιήσει τον 4ο Διεθνή Ορεινό Αγώνα Ψηλορείτη «Psiloritis Race». Η διοργάνωση θα περιλαμβάνει τρεις επιμέρους αγώνες\, έναν 35 χλμ.\, έναν μικρότερο 8\,5 χλμ. και έναν αγώνα 2 χλμ. για παιδιά.Ακολουθεί τα στοιχεία των αγώνων όπως αναφέρονται στην προκήρυξη της διοργάνωσης.\n \nα) Psiloritis Race\nΗ εκκίνηση του αγώνα θα δοθεί την Κυριακή 2 Ιουνίου 2013 στις 7.30 π.μ από την τοποθεσία οροπέδιο Νίδας. Οι αθλητές θα πρέπει να διανύσουν μια απόσταση τριάντα πέντε (35) χιλιομέτρων. Από αυτά τα 16\,5 χλμ είναι σε χωμάτινη διαδρομή\, τα 15\,5 χλμ σε μονοπάτι και τα 3 χλμ σε άσφαλτο. Η υψομετρική διαφορά ανάβασης είναι 1654 μέτρα\, ενώ  η υψομετρική διαφορά κατάβασης 2342 μέτρα. Ο αγώνας έχει βαθμό δυσκολίας 2\, απευθύνεται σε έμπειρους αθλητές και το χρονικό όριο τερματισμού είναι έξι (6) ώρες και τριάντα (30) λεπτά. Συνολικά σε όλο το μήκος της διαδρομής θα υπάρχουν δέκα (10) σταθμοί πλήρης τροφοδοσίας των αθλητών\, ενώ στο τέλος του αγώνα θα παρατεθεί γεύμα στους συμμετέχοντες αθλητές και θα δοθούν αναμνηστικά.\nMε τη συμπλήρωση του αριθμού των συμμετεχόντων (250) η περίοδος των εγγραφών λαμβάνει τέλος. Επίσης μέσω της ιστοσελίδας της διοργάνωσης οι ενδιαφερόμενοι αθλητές έχουν την δυνατότητα να πληροφορηθούν για τους όρους και το κόστος συμμετοχής.\n \nβ) Δρόμος Κουρητών 8\,5 χλμ.\nΗ διαδρομή ξεκινά από το γραφικό χωριό και γενέτειρα της πρώτης φεμινίστριας Καλλιρόης Σιγανού-Παρρέν\, τα Πλατάνια.\nΔιασχίζει αιωνόβιους ελαιώνες και αμπελώνες και φτάνει στην ιστορική έδρα του Δήμου Αμαρίου και έδρα της Δημοτικής Ενότητας Κουρητών\, τον Φουρφουρά.\nΕκεί  υπάρχει και ο πρώτος σταθμός. Συνεχίζοντας την διαδρομή έχοντας πάντα από αριστερά τον επιβλητικό και χιλιοτραγουδισμένο Γερο-Ψηλορείτη και δεξιά μας τον Αμαριώτικο Κάμπο φτάνουμε στο τοπωνύμιο Ανεμόμυλος όπου βρίσκεται ο δεύτερος σταθμός. Εκεί η θέα μας αποζημιώνει ατενίζοντας μπροστά μας το Λιβυκό Πέλαγος και τα ιστορικά χωριά της Αμπαδιάς και αφήνοντας πίσω μας τα υπόλοιπα χωριά-αετοφωλιές\, του Αμαρίου σκαρφαλωμένα στις πλαγιές του Ψηλορείτη\, του Κέντρους και της Σαμίτου. Κατηφορίζοντας για τις Κουρούτες αντικρίζουμε απέναντι μας τις πλαγιές του αγέρωχου Ψηλορείτη\, τους γενναίους αθλητές που ως αλλοτινοί Κουρήτες δρασκέλισαν το μυθικό βουνό παίρνοντας το δρόμο για την Κουρητία.\nΣε λίγο μπροστά μας βρίσκεται το ιστορικό χωριό των Κουρουτών που είναι και ο χώρος τερματισμού.\n \nγ) Δρόμος Κουρητών για παιδιά 2 χλμ.\nΟ αγώνας απευθύνεται στους μικρούς αγωνιστές\, μαθητές Δημοτικού Σχολείου και Γυμνασίου. Η διαδρομή των 2.000μ. έχει τοποθετηθεί στην περιοχή της Αμπαδιάς\, ανάμεσα στα ιστορικά Αμαριώτικα χωριά του Φουρφουρά και των Κουρουτών.\nΗ αφετηρία βρίσκεται στην θέση «Καλωτάς» όπου υπάρχει και η ομώνυμη πηγή. Η διαδρομή είναι ελαφρώς κατηφορική και η θέα εκπληκτική.\nΚατά την διάρκεια της διαδρομής απολαμβάνουμε την πανέμορφη πρασινοφορεμένη φύση\, ντυμένη με το ανοιξιάτικο ευωδιαστό φόρεμα της ενώ στο βάθος του ορίζοντα ξεδιπλώνεται το απέραντο γαλάζιο του Λιβυκού Πελάγους. Πάντοτε από την αριστερή πλευρά μας ορθώνεται ο επιβλητικός Ψηλορείτης όπου διακρίνονται και οι ψηλότερες κορυφές του με ελάχιστα τα απομεινάρια του χειμερινού χιονισμένου πέπλου του. Σε λίγο μπροστά μας συναντούμε το αμπαδιώτικο χωρίο Κουρούτες\, που η σημερινή ονομασία του έχει της ρίζες της στο αρχαίο όνομα Κουρήτες.\n \nΠερισσότερες πληροφορίες και δηλώσεις συμμετοχής στην ιστοσελίδαwww.psiloritisrace.com
URL:https://www.stivoz.gr/event/4-psiloritis-race-2/
CATEGORIES:Ημερολόγιο αγώνων
END:VEVENT
END:VCALENDAR