BEGIN:VCALENDAR
VERSION:2.0
PRODID:-//StivoZ.gr - ECPv5.16.4//NONSGML v1.0//EN
CALSCALE:GREGORIAN
METHOD:PUBLISH
X-WR-CALNAME:StivoZ.gr
X-ORIGINAL-URL:https://www.stivoz.gr
X-WR-CALDESC:StivoZ.gr - Εκδηλώσεις
BEGIN:VTIMEZONE
TZID:Europe/Athens
BEGIN:STANDARD
TZOFFSETFROM:+0200
TZOFFSETTO:+0200
TZNAME:EET
DTSTART:20100101T000000
END:STANDARD
END:VTIMEZONE
BEGIN:VEVENT
DTSTART;VALUE=DATE:20100804
DTEND;VALUE=DATE:20260423
DTSTAMP:20260422T073341
CREATED:20100212T173001Z
LAST-MODIFIED:20181208T172903Z
UID:28447-1280880000-0@www.stivoz.gr
SUMMARY:4ο ελ. grandprix - τελικός (Θήβα)
DESCRIPTION:http://eas-segas-viotias-evias.blogspot.com/ \nΣχετικά θέματα:\nhttp://www.stivoz.com/forum/showthread.php?4213\nhttp://www.stivoz.com/forum/showthread.php?4215\nhttp://www.stivoz.gr/?p=16867 (αποτελέσματα)\nhttp://www.stivoz.com/photoz/index.php?c=93 (φωτογραφίες) \nΠρόγραμμα:\n18:00 Επικοντώ (Γ)\n18:00 Δίσκος (Γ)\n18:00    100 Εμπ (Γ)\n18:15    110 Εμπ (Α)\,\n18:15 Μήκος (Γ)\,\n18:15 Σφαίρα (Α)\n18:30    100 (Α)\n18:45    100 (Γ)\n19:00 Ακοντισμός (Γ)\n19:00    400 (Α)\n19:15    400 (Γ)\,\n19:15 Μήκος (Α)\n19:30 Ύψος (Α)\n19:30    1.500 (Γ)\n19:45    1.500 (Α)\,\n19:45 Σφαιροβολία (Γ)\n20:00 Ακοντισμός (Α)\n20:00    200 (Γ)\n20:15    200 (Α)\,\n20:15 Τριπλούν (Γ)\n20:30    800 (Α)\n20:45    3.000 (Α)\n21:00    400 ΕΜΠ (Γ)
URL:https://www.stivoz.gr/event/4-grandprix-4/
CATEGORIES:Ημερολόγιο αγώνων
END:VEVENT
END:VCALENDAR