BEGIN:VCALENDAR
VERSION:2.0
PRODID:-//StivoZ.gr - ECPv5.16.4//NONSGML v1.0//EN
CALSCALE:GREGORIAN
METHOD:PUBLISH
X-WR-CALNAME:StivoZ.gr
X-ORIGINAL-URL:https://www.stivoz.gr
X-WR-CALDESC:StivoZ.gr - Εκδηλώσεις
BEGIN:VTIMEZONE
TZID:Europe/Athens
BEGIN:STANDARD
TZOFFSETFROM:+0200
TZOFFSETTO:+0200
TZNAME:EET
DTSTART:20130101T000000
END:STANDARD
END:VTIMEZONE
BEGIN:VEVENT
DTSTART;VALUE=DATE:20130724
DTEND;VALUE=DATE:20260420
DTSTAMP:20260419T182005
CREATED:20130111T115735Z
LAST-MODIFIED:20181208T172832Z
UID:28749-1374624000-0@www.stivoz.gr
SUMMARY:4ο grandprix (Θήβα)
DESCRIPTION:-> video \nΣχετικά θέματα:\n– www.stivoz.com/forum/showthread.php?9559\n– www.stivoz.com/forum/showthread.php?9560 (αποτελέσματα) \nΑναβλήθηκε απο 11/7\, για την Τετάρτη 24/7 \nΠρόγραμμα (Νέο): \n17.30 Επί κοντώ Γ\,\n17.30 Μήκος Α\,\n17.30 Δισκοβολία Γ\n17.30  100μ εμπόδια Γ\,\n17.45  110μ εμπόδια Α\,\n17.45 Ύψος Γ\n18.00  80μ εμπόδια ΠΚ Α΄\n18.15  100μ Γ\n18.30  100μ Α\,\n18.30 Ακοντισμός Γ\,\n18.30 Σφαιροβολία Γ\,\n18.45 Μήκος Γ\n18.45  400μ Γ\n19.00  400μ Α\n19.15  800μ Γ\n19.30  800μ Α\,\n19.30 Ύψος Α\,\n19.30 Επί κοντώ Α\,\n19.30 Ακοντισμός Α\n19.45  1.500μ Α\,\n19.45 Τριπλούν Α\,\n19.45 Σφαιροβολία Α\n20.00  400μ εμπόδια Γ\n20.15  400μ εμπόδια Α\n20.30  3.000μ Γ\,\n20.30 Δισκοβολία Α\n20.45 Τριπλούν Γ\n20.45  200μ Γ\,\n21.00  200μ Α	 \nΟι αθλητές-τριες που επιθυμούν να λάβουν μέρος στους Αγώνες θα πρέπει να δηλώσουν την συμμετοχή τους στα Γραφεία της ΕΑΣ ΣΕΓΑΣ Βοιωτίας-Εύβοιας\, τηλ.-φαξ 22210-27114 ή e-mail stibos04@otenet.gr μέχρι την Δευτέρα 8-7-2013. (αναμένεται νέα προθεσμία\, πιθανότατα έως τη Δευτέρα 22/7)
URL:https://www.stivoz.gr/event/4-grandprix-3/
CATEGORIES:Ημερολόγιο αγώνων
END:VEVENT
END:VCALENDAR