BEGIN:VCALENDAR
VERSION:2.0
PRODID:-//StivoZ.gr - ECPv5.16.4//NONSGML v1.0//EN
CALSCALE:GREGORIAN
METHOD:PUBLISH
X-WR-CALNAME:StivoZ.gr
X-ORIGINAL-URL:https://www.stivoz.gr
X-WR-CALDESC:StivoZ.gr - Εκδηλώσεις
BEGIN:VTIMEZONE
TZID:Europe/Athens
BEGIN:STANDARD
TZOFFSETFROM:+0200
TZOFFSETTO:+0200
TZNAME:EET
DTSTART:20090101T000000
END:STANDARD
END:VTIMEZONE
BEGIN:VEVENT
DTSTART;VALUE=DATE:20090717
DTEND;VALUE=DATE:20260422
DTSTAMP:20260421T080109
CREATED:20090611T194520Z
LAST-MODIFIED:20181208T172920Z
UID:28334-1247788800-0@www.stivoz.gr
SUMMARY:4ο Golden League - Paris
DESCRIPTION:http://www.meetingareva.com/index.php?language=uk
URL:https://www.stivoz.gr/event/4-golden-league-paris/
CATEGORIES:Ημερολόγιο αγώνων
END:VEVENT
END:VCALENDAR