BEGIN:VCALENDAR
VERSION:2.0
PRODID:-//StivoZ.gr - ECPv5.16.4//NONSGML v1.0//EN
CALSCALE:GREGORIAN
METHOD:PUBLISH
X-WR-CALNAME:StivoZ.gr
X-ORIGINAL-URL:https://www.stivoz.gr
X-WR-CALDESC:StivoZ.gr - Εκδηλώσεις
BEGIN:VTIMEZONE
TZID:Europe/Athens
BEGIN:DAYLIGHT
TZOFFSETFROM:+0200
TZOFFSETTO:+0300
TZNAME:EEST
DTSTART:20250330T010000
END:DAYLIGHT
BEGIN:STANDARD
TZOFFSETFROM:+0300
TZOFFSETTO:+0200
TZNAME:EET
DTSTART:20251026T010000
END:STANDARD
END:VTIMEZONE
BEGIN:VEVENT
DTSTART;VALUE=DATE:20250126
DTEND;VALUE=DATE:20250127
DTSTAMP:20260422T052616
CREATED:20250107T080544Z
LAST-MODIFIED:20250107T080638Z
UID:120709-1737849600-1737935999@www.stivoz.gr
SUMMARY:πανελ.πρωτ. 35χλμ βάδην (Αλίαρτος)
DESCRIPTION:-> Νικητές πανελληνίων βάδην \nΠρόγραμμα: \n10:00 – 35χλμ. Ανδρών & Γυναικών\n11:00 – 20χλμ. Α/Γ & Κ23 & Κ20 Α 2006\n11:30 – 10χλμ. Α/Γ & Κ23 & Κ20 & Κ18 Α 2008-2009\, Γ 2008\n12:00 – 5χλμ. Κ18 & Κ16 Αγόρια\, Κορίτσια 2010\n12:00 – 3χλμ. Κ16 & Κ14 2012 \nΌριο πρόκρισης\, τα 3 τελευταία χρόνια:\n35χλμ: 3:30 / 4:10\n20χλμ: 1:50 / 2:25 \nΟι δηλώσεις συμμετοχής πρέπει να σταλούν αποκλειστικά και μόνο με email μέχρι τη Δευτέρα 20 Ιανουαρίου 2025 και ώρα 14:00 στον Σ.Ε.Γ.Α.Σ. στην ηλεκτρονική διεύθυνση entries@segas.gr
URL:https://www.stivoz.gr/event/35km-vadin-2025/
CATEGORIES:Ημερολόγιο αγώνων
END:VEVENT
END:VCALENDAR