BEGIN:VCALENDAR
VERSION:2.0
PRODID:-//StivoZ.gr - ECPv5.16.4//NONSGML v1.0//EN
CALSCALE:GREGORIAN
METHOD:PUBLISH
X-WR-CALNAME:StivoZ.gr
X-ORIGINAL-URL:https://www.stivoz.gr
X-WR-CALDESC:StivoZ.gr - Εκδηλώσεις
BEGIN:VTIMEZONE
TZID:Europe/Athens
BEGIN:STANDARD
TZOFFSETFROM:+0200
TZOFFSETTO:+0200
TZNAME:EET
DTSTART:20120101T000000
END:STANDARD
END:VTIMEZONE
BEGIN:VEVENT
DTSTART;VALUE=DATE:20120205
DTEND;VALUE=DATE:20260423
DTSTAMP:20260422T122657
CREATED:20120101T114833Z
LAST-MODIFIED:20181208T172842Z
UID:28629-1328400000-0@www.stivoz.gr
SUMMARY:3ος γύρος πόλεων (Μονεμβασιά)
DESCRIPTION:Σχετικά θέματα:\n– www.stivoz.com/forum/showthread.php?6199\n– www.stivoz.com/forum/showthread.php?6198 (αποτελέσματα)
URL:https://www.stivoz.gr/event/3-6/
CATEGORIES:Ημερολόγιο αγώνων
END:VEVENT
END:VCALENDAR