BEGIN:VCALENDAR
VERSION:2.0
PRODID:-//StivoZ.gr - ECPv5.16.4//NONSGML v1.0//EN
CALSCALE:GREGORIAN
METHOD:PUBLISH
X-WR-CALNAME:StivoZ.gr
X-ORIGINAL-URL:https://www.stivoz.gr
X-WR-CALDESC:StivoZ.gr - Εκδηλώσεις
BEGIN:VTIMEZONE
TZID:Europe/Athens
BEGIN:STANDARD
TZOFFSETFROM:+0200
TZOFFSETTO:+0200
TZNAME:EET
DTSTART:20090101T000000
END:STANDARD
END:VTIMEZONE
BEGIN:VEVENT
DTSTART;VALUE=DATE:20090531
DTEND;VALUE=DATE:20260421
DTSTAMP:20260420T090521
CREATED:20090518T084827Z
LAST-MODIFIED:20181208T172923Z
UID:28315-1243728000-0@www.stivoz.gr
SUMMARY:28α Ορσίππεια (Μέγαρα)
DESCRIPTION:Σχετικά θέματα:\nhttp://www.stivoz.gr/?p=28315 \nΜΕΓΑΡΑ 31 ΜΑΙΟΥ 2009 \n16.30		60μ ΠΚΒ\, Μήκος ΠΠΒ\n16:45		60μ ΠΠΒ\, Σφαιροβολία ΠΠΒ\n17.00		80μ ΠΚΑ\n17.10 	80μ ΠΠΑ\, Μήκος ΠΚΒ\n17.25 	100μ Κ\n17.35 	100μ Π\, Σφαιροβολία ΠΚΒ\n17:50		600μ ΠΚΒ\, Μήκος ΠΚΑ\n18:05		1000μ ΠΠΒ\n18:15		1000μ ΠΚΑ\, Σφαιροβολία Κ\n18:30		300μ ΠΠΑ\, Ακόντιο Α\n18:45		100μ Γ\, Μήκος Π\n18:55		100μ Α\n19:10		1500μ Π\, Σφαιροβολία Π\n19:25		800μ Α\n19:35		800μ Γ\, Τριπλούν Κ\n19:45		200μ Α
URL:https://www.stivoz.gr/event/28-3/
CATEGORIES:Ημερολόγιο αγώνων
END:VEVENT
END:VCALENDAR