BEGIN:VCALENDAR
VERSION:2.0
PRODID:-//StivoZ.gr - ECPv5.16.4//NONSGML v1.0//EN
CALSCALE:GREGORIAN
METHOD:PUBLISH
X-WR-CALNAME:StivoZ.gr
X-ORIGINAL-URL:https://www.stivoz.gr
X-WR-CALDESC:StivoZ.gr - Εκδηλώσεις
BEGIN:VTIMEZONE
TZID:Europe/Athens
BEGIN:DAYLIGHT
TZOFFSETFROM:+0200
TZOFFSETTO:+0300
TZNAME:EEST
DTSTART:20190331T010000
END:DAYLIGHT
BEGIN:STANDARD
TZOFFSETFROM:+0300
TZOFFSETTO:+0200
TZNAME:EET
DTSTART:20191027T010000
END:STANDARD
END:VTIMEZONE
BEGIN:VEVENT
DTSTART;VALUE=DATE:20190324
DTEND;VALUE=DATE:20190325
DTSTAMP:20260420T015939
CREATED:20190225T144150Z
LAST-MODIFIED:20191230T154848Z
UID:45938-1553385600-1553471999@www.stivoz.gr
SUMMARY:Πανελ.πρωτ. 20χλμ βάδην Νέων (Μέγαρα)
DESCRIPTION:Σχετικά θέματα:\n– https://www.stivoz.gr/tzatzimakis-kai-koyrkoytsaki-me-orio-prwtoi-neoi-vadin/\n– http://www.stivoz.gr/?p=47245 (αποτελέσματα) \nΜαζί με το αγώνισμα του Πανελληνίου Πρωταθλήματος διεξάγεται και Ημερίδα Βάδην 20χλμ. Ανδρών – Γυναικών\, 10χλμ. Κ20 (Εφήβων – Νεανίδων) – Κ18 (Παίδων) και 5χλμ. Κ18 (Κορασίδων) \nΠρόγραμμα: \n09:30 – 20χλμ. Ανδρών\, Κ23 (Νέων Α) & 10χλμ. Κ20 (Εφήβων) & Κ18 (Παίδων)\n09:35 – 20χλμ. Γυναικών\, Κ23 (Νέων Γ) & 10.000μ. Κ20 (Νεανίδων)\n09:40 – 5χλμ. Κ18 (Κορασίδων) \nΟι δηλώσεις συμμετοχής πρέπει να σταλούν στον Σ.Ε.Γ.Α.Σ. με email το αργότερο μέχρι και τη Δευτέρα 18 Μαρτίου 2019 και ώρα 14:00 στην ηλεκτρονική διεύθυνση entries@segas.gr
URL:https://www.stivoz.gr/event/20km-vadin-u23-2019/
CATEGORIES:Ημερολόγιο αγώνων
END:VEVENT
END:VCALENDAR