BEGIN:VCALENDAR
VERSION:2.0
PRODID:-//StivoZ.gr - ECPv5.16.4//NONSGML v1.0//EN
CALSCALE:GREGORIAN
METHOD:PUBLISH
X-WR-CALNAME:StivoZ.gr
X-ORIGINAL-URL:https://www.stivoz.gr
X-WR-CALDESC:StivoZ.gr - Εκδηλώσεις
BEGIN:VTIMEZONE
TZID:Europe/Athens
BEGIN:DAYLIGHT
TZOFFSETFROM:+0200
TZOFFSETTO:+0300
TZNAME:EEST
DTSTART:20200329T010000
END:DAYLIGHT
BEGIN:STANDARD
TZOFFSETFROM:+0300
TZOFFSETTO:+0200
TZNAME:EET
DTSTART:20201025T010000
END:STANDARD
END:VTIMEZONE
BEGIN:VEVENT
DTSTART;VALUE=DATE:20200216
DTEND;VALUE=DATE:20200217
DTSTAMP:20260420T125236
CREATED:20200117T124301Z
LAST-MODIFIED:20200224T074053Z
UID:62542-1581811200-1581897599@www.stivoz.gr
SUMMARY:Πανελ.πρ. 20χλμ βάδην Νέων & 4ο φεστιβάλ (Πάτρα)
DESCRIPTION:Σχετικά θέματα:\n– https://www.stivoz.gr/kalo-to-proto-20ari-tis-fiaska-oria-sto-festival-vadin/\n– https://www.stivoz.gr/panellinio-20km-vadin-neon-2020/ (αποτελέσματα) \n4ο Φεστιβάλ Βάδην Πάτρας \nΠρόγραμμα: \n11:00 20χλμ. Ανδρών και Κ23 Α/Γ\n11:20 10χλμ. Κ20 και Κ18 Ανδρών\n11:20 5χλμ. Κ18 Γυναικών και Κ16 Α/Γ\n12:00 1χλμ. Κ12\n12:05 2χλμ. Κ14 \nΟι αθλητές-τριες που θα δηλωθούν για να συμμετάσχουν στο Πανελλήνιο Πρωτάθλημα θα πρέπει να έχουν πετύχει στα 20.000μ. Βάδην επιδόσεις καλύτερες από τα παρακάτω όρια την τριετία 2017– 2018 – 2019:\nΝέοι: 2:00.0\nΝέες: 2:15.0\nΟι αθλητές της κατηγορίας Κ20 Ανδρών που συμμετέχουν για πρώτη φορά στα 20.000 βάδην\, πρέπει να έχουν πετύχει επίδοση στα 10.000μ. Βάδην την τριετία 2018 – 2019 – 2020:\nΈφηβοι: 55:00.0\nΝεανίδες: 1:00:00.0 \nΑκόμη δικαίωμα συμμετοχής έχουν οι αθλητές – αθλήτριες που εκπληρώνουν μία από τις παρακάτω προϋποθέσεις\nΝα έχουν  καταταγεί  στη 12αδα του αντίστοιχου  ατομικού αγωνίσματος στο Πανελλήνιο Πρωτάθλημα  που αγωνίστηκαν την  προηγούμενη χρονιά 2019.\nΝα έχουν καταταγεί στη 15αδα της ετήσιας λίστας Α-Γ ή K23 (Α/Γ) του προηγούμενου έτους 2019. \nΟι δηλώσεις συμμετοχής πρέπει να σταλούν στον Σ.Ε.Γ.Α.Σ. με email το αργότερο μέχρι και τη Δευτέρα 10 Φεβρουαρίου 2020 και ώρα 14:00 στην ηλεκτρονική διεύθυνση entries@segas.gr .
URL:https://www.stivoz.gr/event/20km-vadin-neon-2020/
CATEGORIES:Ημερολόγιο αγώνων
END:VEVENT
END:VCALENDAR