BEGIN:VCALENDAR
VERSION:2.0
PRODID:-//StivoZ.gr - ECPv5.16.4//NONSGML v1.0//EN
CALSCALE:GREGORIAN
METHOD:PUBLISH
X-WR-CALNAME:StivoZ.gr
X-ORIGINAL-URL:https://www.stivoz.gr
X-WR-CALDESC:StivoZ.gr - Εκδηλώσεις
BEGIN:VTIMEZONE
TZID:Europe/Athens
BEGIN:DAYLIGHT
TZOFFSETFROM:+0200
TZOFFSETTO:+0300
TZNAME:EEST
DTSTART:20200329T010000
END:DAYLIGHT
BEGIN:STANDARD
TZOFFSETFROM:+0300
TZOFFSETTO:+0200
TZNAME:EET
DTSTART:20201025T010000
END:STANDARD
END:VTIMEZONE
BEGIN:VEVENT
DTSTART;VALUE=DATE:20200809
DTEND;VALUE=DATE:20200810
DTSTAMP:20260422T054958
CREATED:20191230T154735Z
LAST-MODIFIED:20200809T073635Z
UID:62153-1596931200-1597017599@www.stivoz.gr
SUMMARY:Πανελ.Πρωτ. 20χλμ βάδην (Πάτρα) Α/Γ
DESCRIPTION:Αναβλήθηκε από τις 5/4 στα Μέγαρα\, για τις 9/8 στην Πάτρα \nΣχετικά θέματα:\n– www.stivoz.gr/panellinio-20km-vadin-2020/ (αποτελέσματα)
URL:https://www.stivoz.gr/event/20km-vadin-2020/
CATEGORIES:Ημερολόγιο αγώνων
END:VEVENT
END:VCALENDAR