BEGIN:VCALENDAR
VERSION:2.0
PRODID:-//StivoZ.gr - ECPv5.16.4//NONSGML v1.0//EN
CALSCALE:GREGORIAN
METHOD:PUBLISH
X-WR-CALNAME:StivoZ.gr
X-ORIGINAL-URL:https://www.stivoz.gr
X-WR-CALDESC:StivoZ.gr - Εκδηλώσεις
BEGIN:VTIMEZONE
TZID:Europe/Athens
BEGIN:STANDARD
TZOFFSETFROM:+0200
TZOFFSETTO:+0200
TZNAME:EET
DTSTART:20180101T000000
END:STANDARD
END:VTIMEZONE
BEGIN:VEVENT
DTSTART;VALUE=DATE:20180519
DTEND;VALUE=DATE:20260420
DTSTAMP:20260419T234004
CREATED:20180514T114114Z
LAST-MODIFIED:20181208T172610Z
UID:29359-1526688000-0@www.stivoz.gr
SUMMARY:Αλ.Σιούλη 2018 (Πάτρα)
DESCRIPTION:Σχετικά θέματα:\n– www.stivoz.com/forum/showthread.php?17628 (αποτελέσματα) \n-> Αλέκα Σιούλη – βιογραφικό \nΠρόγραμμα: \n    15.50΄ 110 μ. Εμπ ΠΑΙΔΩΝ\n16.00΄ ΣΦΑΙΡΑ ΠΚ Α΄\n    16.00΄ 60 μ. Εμπ. ΠΠ Β΄\n    16.15΄ 60 μ. Εμπ. ΠΚ Β΄\n16.15΄ ΜΗΚΟΣ ΑΝΔΡΩΝ\n    16.30΄ 60 μ. ΠΠ Β΄\n    16.50΄ 60 μ. ΠΚ Β΄\n16.50΄ ΣΦΑΙΡΑ ΠΠ Α΄\n17.20΄ΣΦΑΙΡΑ  ΠΚ Β΄\n17.20΄ΜΗΚΟΣ  ΠΠ Β΄\n    17.20΄ 150 μ. ΠΚ Α΄\n    17.30΄ 150 μ. ΠΠ Α΄\n17.30΄ ΥΨΟΣ ΠΠ Β΄\n    17.40΄ 100 μ. ΑΝΔΡΩΝ\n    17.50΄ 100 μ. ΓΥΝΑΙΚΩΝ\n17.50΄ΣΦΑΙΡΑ  ΠΠ Β΄\n17.50΄ΜΗΚΟΣ  ΠΚ Β΄\n18.05΄ ΥΨΟΣ ΠΚ Β΄\n    18.05΄ 1.000 μ. ΠΠ Β΄ (Α΄ Γκρουπ)\n    18.20΄ 1.000 μ. ΠΚ Β΄ (Α΄ Γκρουπ)\n18.35΄ ΜΠΑΛΑΚΙ  ΠΚ Β΄\n    18.35΄ 600 μ. ΠΠ Α΄\n    18.45΄ 600 μ. ΠΚ Α΄\n18.45΄ ΜΗΚΟΣ ΓΥΝΑΙΚΩΝ\n    18.55΄ 400 μ. Α\n    19.05΄ 400 μ. Γ\n19.05΄ ΜΠΑΛΑΚΙ  ΠΠ Β΄\n19.15΄ ΕΙΔΙΚΟΣ ΑΓΩΝΑΣ ΥΨΟΣ ΓΥΝΑΙΚΩΝ\n    19.15΄ 800 μ.\n    19.25΄ 1.000 μ. ΠΠ Β΄ (Β΄ Γκρουπ)\n    19.35΄ 1.000 μ. ΠΚ Β΄ (Β΄ Γκρουπ)\n    19.45΄ 1.500 μ. ΑΝΔΡΩΝ\n    19.55΄ 5.000 μ. ΒΑΔΗΝ Α\n    20.00΄ 5.000 μ. ΒΑΔΗΝ Γ \nΔηλώσεις συμμετοχής\, μέχρι την Τετάρτη 16 Μαΐου\,  ηλεκτρονικά\nστην Ε.Α.Σ Σ.Ε.Γ.Α.Σ. ΒΟΡΕΙΑΣ ΠΕΛ/ΣΟΥ στο email: segaspatra@yahoo.gr
URL:https://www.stivoz.gr/event/2018/
CATEGORIES:Ημερολόγιο αγώνων
END:VEVENT
END:VCALENDAR