BEGIN:VCALENDAR
VERSION:2.0
PRODID:-//StivoZ.gr - ECPv5.16.4//NONSGML v1.0//EN
CALSCALE:GREGORIAN
METHOD:PUBLISH
X-WR-CALNAME:StivoZ.gr
X-ORIGINAL-URL:https://www.stivoz.gr
X-WR-CALDESC:StivoZ.gr - Εκδηλώσεις
BEGIN:VTIMEZONE
TZID:Europe/Athens
BEGIN:STANDARD
TZOFFSETFROM:+0200
TZOFFSETTO:+0200
TZNAME:EET
DTSTART:20120101T000000
END:STANDARD
END:VTIMEZONE
BEGIN:VEVENT
DTSTART;VALUE=DATE:20120603
DTEND;VALUE=DATE:20260423
DTSTAMP:20260422T114417
CREATED:20120521T183913Z
LAST-MODIFIED:20181208T172840Z
UID:28654-1338681600-0@www.stivoz.gr
SUMMARY:αθλητική συνάντηση "Χανιά2012"
DESCRIPTION:Σχετικά θέματα:\n– www.stivoz.com/forum/showthread.php?6935\n– www.stivoz.com/forum/showthread.php?6970 \nΠρόγραμμα:\n13.00 Επί Κοντώ ΠΠ Α΄\n14.30 Επί Κοντώ ΠΚ Α΄\n15.00 Σφύρα ΠΚ Α΄ \, Δίσκος ΠΠ Α΄\n16.00 Μήκος Γ \, Σφύρα ΠΠ Α΄ \, Δίσκος Π \, Σφαίρα ΠΚ Α΄\n16.00 80μ ΠΠ Α΄\n16.20 80μ ΠΚ Α΄\n16.20 Επί Κοντώ Α.\n16.35 60μ ΠΠ Β΄\n16.50 60μ ΠΚ Β΄\n17.10 1.000μ ΠΠ – ΠΚ Β΄\n17.10 Μήκος Α \, Ύψος Γ\n17.20 600μ ΠΠ – ΠΚ Α΄\n17.20 Σφύρα Κ. \, Δίσκος Α – Ε \, Σφαίρα Γ\n17.35 150μ ΠΠ – ΠΚ Α΄\n17.50 100μ Α – Γ\n18.10 Επί Κοντώ Γ \, Σφαίρα ΠΠ Α΄\n18.10 110μ Εμπ. Ε.\n18.30 110μ Εμπ. Α.\n18.30 Τριπλούν Α – Γ \, Ύψος Α \, Σφύρα Π\n18.45 Δίσκος Γ\n18.45 400μ Α.\n19.00 400μ Εμπ. Γ.\n19.15 200μ Α – Γ\n19.15 Σφαίρα Π\n19.35 1.500μ Α – Γ\n20.00 Ακόντιο Α.
URL:https://www.stivoz.gr/event/2012-3/
CATEGORIES:Ημερολόγιο αγώνων
END:VEVENT
END:VCALENDAR