BEGIN:VCALENDAR
VERSION:2.0
PRODID:-//StivoZ.gr - ECPv5.16.4//NONSGML v1.0//EN
CALSCALE:GREGORIAN
METHOD:PUBLISH
X-WR-CALNAME:StivoZ.gr
X-ORIGINAL-URL:https://www.stivoz.gr
X-WR-CALDESC:StivoZ.gr - Εκδηλώσεις
BEGIN:VTIMEZONE
TZID:Europe/Athens
BEGIN:STANDARD
TZOFFSETFROM:+0200
TZOFFSETTO:+0200
TZNAME:EET
DTSTART:20090101T000000
END:STANDARD
END:VTIMEZONE
BEGIN:VEVENT
DTSTART;VALUE=DATE:20091213
DTEND;VALUE=DATE:20260422
DTSTAMP:20260421T190801
CREATED:20091116T193413Z
LAST-MODIFIED:20181208T172919Z
UID:28345-1260662400-0@www.stivoz.gr
SUMMARY:Μαραθωνεια 2009 (Σχινιας)
DESCRIPTION:10:00	4000m	ΠΑΙΔΩΝ	1992-93\n10:20	2000m	ΚΟΡΑΣΙΔΕΣ	1992-93\n10:30	2000m	ΠΠΑ	1994-95\n10:40	2000m	ΠΚΑ	1994-95\n10:50	1000m	ΠΠ Β	1996-97\n11:00	1000m	ΠΚ Β 	1996-97\n11:10	1000m	ΜΙΝΙ ΠΚ 	1998-99-2000\n11:20	             1000m	ΜΙΝΙ ΠΠ 	1998-99-2000\n11:30	400m	ΑΚΑΔΗΜΙΕΣ  ΠΠ	2001 &μικρότεροι\n11:40	400m	ΑΚΑΔΗΜΙΕΣ  ΠΚ	2001 &μικρότεροι\n12:00	Α Π Ο Ν Ο Μ Ε Σ	 \nΟι δηλώσεις συμμετοχής των αθλητών-τριων θα γίνονται 45-60 λεπτά πριν από κάθε αγώνισμα με αυτοπρόσωπη παρουσία στην γραμματεία των αγώνων επιδεικνύοντας το ΔΕΛΤΙΟ ΑΘΛΗΤΙΚΗΣ ΙΔΙΟΤΗΤΑΣ.
URL:https://www.stivoz.gr/event/2009/
CATEGORIES:Ημερολόγιο αγώνων
END:VEVENT
END:VCALENDAR