BEGIN:VCALENDAR
VERSION:2.0
PRODID:-//StivoZ.gr - ECPv5.16.4//NONSGML v1.0//EN
CALSCALE:GREGORIAN
METHOD:PUBLISH
X-WR-CALNAME:StivoZ.gr
X-ORIGINAL-URL:https://www.stivoz.gr
X-WR-CALDESC:StivoZ.gr - Εκδηλώσεις
BEGIN:VTIMEZONE
TZID:Europe/Athens
BEGIN:STANDARD
TZOFFSETFROM:+0200
TZOFFSETTO:+0200
TZNAME:EET
DTSTART:20080101T000000
END:STANDARD
END:VTIMEZONE
BEGIN:VEVENT
DTSTART;VALUE=DATE:20080224
DTEND;VALUE=DATE:20260423
DTSTAMP:20260422T071000
CREATED:20080205T100331Z
LAST-MODIFIED:20181208T172944Z
UID:28217-1203811200-0@www.stivoz.gr
SUMMARY:αγώνας δρόμου 20χλμ - ΣΔΥΑ (Αγ.Κοσμας)
DESCRIPTION:31ος ετήσιος αγώνας δρόμου υγείας 20.000μ \nΟ Σύλλογος Δρομέων Υγείας Αθηνών προκηρύσσει τον 31ο ετήσιο αγώνα δρόμου υγείας 20.000 μ σε συνεργασία και συνδιοργάνωση με το Ε.Α.Κ.Ν. Αγ.Κοσμά.\nΣημείο εκκίνησης-τερματισμού: κεντρικός στίβος εγκαταστάσεων Ε.Α.Κ.Ν. Αγ. Κοσμά\nΏρα εκκίνησης: 10:30 π.μ \nημερομηνία διεξαγωγής :Κυριακή 24 Φεβρουάριου 2008 \nΗ διαδρομή: Εκκίνηση με 3/4 στροφής μέσα στο στάδιο του ΕΑΚΝ Αγ. Κοσμά – έξοδος από τη νότια πύλη του ΕΑΚΝ – (Παραλιακή) Λεωφόρος Ποσειδώνος προς Γλυφάδα – Οδός Διαδόχου Παύλου (Παραλία Γλυφάδας) – (Παραλιακή) Λεωφόρος Ποσειδώνος – (Παραλιακή) Λεωφ. Κ. Καραμανλή – στροφή για Καβούρι\, Οδός Ακτής / Ηλ. Ηλιού / Γρ. Λαμπράκη\, μετά τη διασταύρωση με την οδό Κρόνου αναστροφή (10 χλμ.) και επιστροφή. Τερματισμός με ? στροφής μέσα στο στάδιο ΕΑΚΝ Αγ. Κοσμά. \nΣημειωτέον ότι η διαδρομή είναι μετρημένη όπως επίσης καθ όλο το μήκος της θα είναι φυλασσόμενη από την Τροχαία Γλυφάδας και Καλλιθέας με κώνους επί της δεξιάς λωρίδας του οδοστρώματος. \nΣε όλους τους τερματισαντες δρομείς θα δοθούν αναμνηστικά διπλώματα και μετάλλια. \nΘα βραβευθουν οι 3 πρώτοι άνδρες και οι 3 πρώτες γυναίκες της γενικής κατάταξης καθώς και θα υπαρχουν κατηγορίες ανα 5ετια σε άνδρες και γυναικες.\nΘα δωθει κυπελλο στην ομαδικοτερη συμμετοχή \nΟ αγώνας θα γίνει με οποιεσδήποτε καιρικές συνθήκες και οι δρομείς θα πρέπει να έχουν περάσει από ιατρικές εξετάσεις προτού αγωνισθούν \nΔηλωσεις συμμετοχής στα γραφεία του συλλόγου κάθε Δευτέρα 18\,30 – 21:30 (κοδρατου 15 πλ. Καραισκακη οπισθεν θεατρου περοκε)\nΜε φαξ στο 2106858780\nΗλεκτρονικα στο e-mail: stavleonben@yahoo.gr και με sms (μόνο) στο 6974330832\n1 ώρα πριν από την εκκινηση στην αφετηρία \nόσοι από τους συμμετεχοντες δηλωσουν με φαξ και με ηλεκτρονικο ταχυδρομιο την συμμετοχή τους θα παραλαβουν το νουμερο τους την ημέρα του αγώνα από διαφορετικη σειρά
URL:https://www.stivoz.gr/event/20/
CATEGORIES:Ημερολόγιο αγώνων
END:VEVENT
END:VCALENDAR