BEGIN:VCALENDAR
VERSION:2.0
PRODID:-//StivoZ.gr - ECPv5.16.4//NONSGML v1.0//EN
CALSCALE:GREGORIAN
METHOD:PUBLISH
X-WR-CALNAME:StivoZ.gr
X-ORIGINAL-URL:https://www.stivoz.gr
X-WR-CALDESC:StivoZ.gr - Εκδηλώσεις
BEGIN:VTIMEZONE
TZID:Europe/Athens
BEGIN:STANDARD
TZOFFSETFROM:+0200
TZOFFSETTO:+0200
TZNAME:EET
DTSTART:20090101T000000
END:STANDARD
END:VTIMEZONE
BEGIN:VEVENT
DTSTART;VALUE=DATE:20090703
DTEND;VALUE=DATE:20260424
DTSTAMP:20260423T215908
CREATED:20090611T194422Z
LAST-MODIFIED:20181208T172921Z
UID:28332-1246579200-0@www.stivoz.gr
SUMMARY:2ο Golden League - Oslo
DESCRIPTION:http://www.bislettgames.com/english/index.html \nΣχετικά θέματα:\nhttp://www.stivoz.com/forum/showthread.php?t=3318\nhttp://www.stivoz.com/forum/showthread.php?t=3327
URL:https://www.stivoz.gr/event/2-golden-league-oslo/
CATEGORIES:Ημερολόγιο αγώνων
END:VEVENT
END:VCALENDAR