BEGIN:VCALENDAR
VERSION:2.0
PRODID:-//StivoZ.gr - ECPv5.16.4//NONSGML v1.0//EN
CALSCALE:GREGORIAN
METHOD:PUBLISH
X-WR-CALNAME:StivoZ.gr
X-ORIGINAL-URL:https://www.stivoz.gr
X-WR-CALDESC:StivoZ.gr - Εκδηλώσεις
BEGIN:VTIMEZONE
TZID:Europe/Athens
BEGIN:DAYLIGHT
TZOFFSETFROM:+0200
TZOFFSETTO:+0300
TZNAME:EEST
DTSTART:20170326T010000
END:DAYLIGHT
BEGIN:STANDARD
TZOFFSETFROM:+0300
TZOFFSETTO:+0200
TZNAME:EET
DTSTART:20171029T010000
END:STANDARD
END:VTIMEZONE
BEGIN:VEVENT
DTSTART;VALUE=DATE:20170513
DTEND;VALUE=DATE:20170515
DTSTAMP:20260419T212112
CREATED:20170416T183336Z
LAST-MODIFIED:20181208T172650Z
UID:29187-1494666000-1494792000@www.stivoz.gr
SUMMARY:διασυλλογικό Α/Γ (11 όμιλοι) 2η αγωνιστική
DESCRIPTION:Σχετικά θέματα:\n– www.stivoz.com/forum/showthread.php?16488 (αποτελέσματα) \n-> Όρια \n-> αποτελέσματα 1ης αγωνιστικής 7 ομίλων\n-> αποτελέσματα ομίλων Αιγαίου \nΌμιλοι Α/Γ \n1 ΑΝΑΤΟΛΙΚΗ ΜΑΚΕΔΟΝΙΑ & ΘΡΑΚΗ – ΠΕΛΛΑ / ΚΙΛΚΙΣ\n2 ΘΕΣΣΑΛΟΝΙΚΗ – ΠΙΕΡΙΑ / ΗΜΑΘΙΑ\n3 ΘΕΣΣΑΛΙΑ – ΗΠΕΙΡΟΣ – ΔΥΤΙΚΗ ΜΑΚΕΔΟΝΙΑ – ΚΕΡΚΥΡΑ\n4 ΒΟΡΕΙΑ ΠΕΛΟΠΟΝΝΗΣΟΣ – ΠΕΡΙΦΕΡΕΙΑ ΠΕΛΟΠΟΝΝΗΣΟΥ\n5 ΠΕΙΡΑΙΑΣ & ΝΟΤΙΟΔΥΤΙΚΗ ΑΤΤΙΚΗ – ΑΝΑΤΟΛΙΚΗ ΣΤΕΡΕΑ ΕΥΒΟΙΑ\n6 ΑΘΗΝΑ\n7 ΚΡΗΤΗ \n8*ΔΩΔΕΚΑΝΗΣΑ\n9*ΛΕΣΒΟΣ\n10*ΧΙΟΣ / ΣΑΜΟΣ\n11*ΚΥΚΛΑΔΕΣ \nΟι αγώνες διεξάγονται σε δύο αγωνιστικές ημέρες (σε ένα κύκλο για κάθε αγωνιστική) με χρονική απόσταση μεταξύ τους τουλάχιστον μιας εβδομάδας και σε δύο διαφορετικές πόλεις\, εκτός από τις Ε.Α.Σ. του Αιγαίου* που οι αγώνες διεξάγονται σε 1 Σαββατοκύριακο \nΠρόγραμμα: \n1ος όμιλος – Κυρ.14/5\, Σέρρες \n15:00	10.000 Βάδην Α & Γ\n15:45	Σφαιροβολία Γ\n16:10 Επί Κοντώ Α\n16:10 Ύψος Γ\n16:10	200 Α προκριματικός\n16.30	200 Γ προκριματικός\n16:50 Ακοντισμός Α\n16:50	400 Εμπ. Α\n17:00	400 Εμπ. Γ\n17:00 Τριπλούν Γ\n17:15	800 Α\n17:25	800 Γ\n17:25 Μήκος Α\n17:35	200 Α τελικός\n17:45	200 Γ τελικός\n17:45 Κοντώ Γ\n17:45 Δισκοβολία  Γ\n18:00	5.000 Α\n18:30	5.000 Γ\n19:00	4Χ400 Α\n19:10	4Χ400 Γ		 \n2ος όμιλος – Σαβ.13/5\, Κατερίνη \n15.30 200μ  Γ (Προκριματικός)\n15:30 ΣΦΑΙΡΑ  Α\n15:40 ΑΚΟΝΤΙΟ  Γ\n16:00 200μ  Α (Προκριματικός)\n16:00 ΥΨΟΣ  Γ\n16:40 400μ  ΕΜΠ   Γ\n16:50 400μ  ΕΜΠ   Α\n17:00 800μ  Γ\n17:10 800μ  Α\n17:10 ΑΚΟΝΤΙΟ  Α\n17:20 ΜΗΚΟΣ  Α\n17:20 5000μ  Γ\n17:45 5000μ  Α\n18:10 ΥΨΟΣ Α\n18:10 200μ  Γ (Τελικός)\n18:20 200μ  Α (Τελικός)\n19.00 TΡΙΠΛΟΥΝ  Γ\n19:40 4 Χ 400μ  Γ\n19:50 4 Χ 400μ  Α \n3ος όμιλος – Σαβ.13/5\, Τρίκαλα \n15:30 ΕΠΙΚΟΝΤΩ Α\n15:30 ΣΦΥΡΑ Α\n16:00 ΣΦΥΡΑ Γ\n16:00 200μ. Α προκρ.\n16:30 200μ. Γ προκρ.\n16:45 ΑΚΟΝΤΙΟ Α\n16:45 ΥΨΟΣ Γ\n17:00 ΜΗΚΟΣ Α\n17:15 800μ. Α\n17:30 800μ. Γ\n17:30 ΔΙΣΚΟΣ Γ\n17:45 400μ. εμπ. Γ\n18:00 400μ. εμπ. Α\n18:10 ΤΡΙΠΛΟΥΝ Γ\n18:10 5000μ. Α\n18:30 5000μ. Γ\n18:50 200μ. Γ τελικός\n19:00 200μ. Α τελικός\n19:10 10.000μ. βάδην Α\n20:10 4χ400μ. Γ\n20:20 4χ400μ. Α \n4ος όμιλος – Σαβ.13/5\, Τρίπολη \n15:00 ΣΦΥΡΟΒΟΛΙΑ  Γ\n15:30	200μ.  Γ (προκρ/κός)\n15:50	200μ.  Α (προκρ/κός)\n15:50 ΕΠΙ ΚΟΝΤΩ Γ\n15:50 ΣΦΥΡΟΒΟΛΙΑ  Α\n16:15 ΜΗΚΟΣ Α\n16:15	400μ. Εμπ.  Γ\n16:30	400μ. Εμπ Α\n16:45 ΔΙΣΚΟΒΟΛΙΑ Γ\n16:45 	800μ.    Γ\n16:55	800μ.   Α\n17:05	200μ.  Γ (ΤΕΛΙΚΟΣ)\n17:15	200μ.  Α (ΤΕΛΙΚΟΣ)\n17:15 ΕΠΙ ΚΟΝΤΩ Α\n17:30 ΤΡΙΠΛΟΥΝ Γ\n17:30	5.000μ.    Γ\n17:50	5.000μ.   Α\n18:10 ΔΙΣΚΟΒΟΛΙΑ Α\n18:20	4Χ400μ. Γ\n18:30	4Χ400μ. Γ		 \n5ος ομιλος (Πειραιά) – Σαβ.13/5\, Αγ.Κοσμάς \n14:00			ΣΦΥΡΟΒΟΛΙΑ Α\n14:20	200μ. Α ΠΡΟΚΡ.\n15:00	200μ. Γ ΠΡΟΚΡ.\n15:05		ΕΠΙ ΚΟΝΤΩ Α\n15:15		ΥΨΟΣ Γ\n15:15 ΣΦΥΡΟΒΟΛΙΑ Γ\n15:40	400μ. ΕΜΠ Α\n16:00	400μ. ΕΜΠ Γ\n16:20	800μ. Α\n16:30		ΤΡΙΠΛΟΥΝ Γ\n16:40	800μ. Γ\n16:40 ΑΚΟΝΤΙΣΜΟΣ Α\n17:05	200μ. Α ΤΕΛΙΚΟΣ\n17:20	200μ. Γ ΤΕΛΙΚΟΣ\n17:40	5.000μ. Α\n18:00		ΜΗΚΟΣ Α\n18:15	5.000μ. Γ\n18:50	4Χ400μ.  Α\n19:05	4Χ400μ.  Γ\n19:10			ΑΚΟΝΤΙΣΜΟΣ Γ \nΤΑ ΑΓΩΝΙΣΜΑΤΑ ΤΩΝ 10.000μ. ΒΑΔΗΝ ΑΝΔΡΩΝ ΚΑΙ ΓΥΝΑΙΚΩΝ\nΘΑ ΔΙΕΞΑΧΘΟΥΝ ΜΑΖΙ ΜΕ ΤΟΝ ΟΜΙΛΟ ΤΗΣ ΑΘΗΝΑΣ ΤΗΝ ΚΥΡΙΑΚΗ 14 ΜΑΪΟΥ 2017. \nΟι δηλώσεις συμμετοχής πρέπει να γίνουν ΜΟΝΟ ηλεκτρονικά μέχρι την ΤΕΤΑΡΤΗ 10.05.2017 και  ώρα 14:00  με e-mail\nστις διευθύνσεις : segaspeiraia@gmail.com & smatakis@gmail.com χρησιμοποιώντας αποκλειστικά και μόνο τις σχετικές φόρμες \n6ος όμιλος (Αθήνας) – Κυρ.14/5\, Άγ.Κοσμάς \n14:00	ΣΦΥΡΟΒΟΛΙΑ ΑΝΔΡΩΝ\n14:20	200μ ΑΝΔΡΩΝ ΠΡΟΚΡ.\n15:00	200μ  ΓΥΝΑΙΚΩΝ ΠΡΟΚΡ.\n15:00	ΕΠΙ ΚΟΝΤΩ ΑΝΔΡΩΝ\n15:00	ΣΦΥΡΟΒΟΛΙΑ ΓΥΝΑΙΚΩΝ\n15:40 ΥΨΟΣ ΓΥΝΑΙΚΩΝ\n15:40	400 ΕΜΠ. ΑΝΔΡΩΝ ΤΕΛ. ΣΕΙΡΕΣ\n16:00	400 ΕΜΠ. ΓΥΝΑΙΚΩΝ ΤΕΛ. ΣΕΙΡΕΣ\n16:15 ΤΡΙΠΛΟΥΝ  ΓΥΝΑΙΚΩΝ\n16:15	800μ  ΑΝΔΡΩΝ ΤΕΛ.ΣΕΙΡΕΣ\n16:30	800μ ΓΥΝΑΙΚΩΝ ΤΕΛ.ΣΕΙΡΕΣ\n16:45	200μ  ΑΝΔΡΩΝ ΤΕΛΙΚΟΣ\n17:00	   200μ  ΓΥΝΑΙΚΩΝ ΤΕΛΙΚΟΣ\n17:00 ΑΚΟΝΤΙΣΜΟΣ ΑΝΔΡΩΝ\n17:15	5000μ.  ΑΝΔΡΩΝ ΤΕΛΙΚΟΣ	(3 σειρές)\n17:50	5000μ.  ΓΥΝΑΙΚΩΝ ΤΕΛΙΚΟΣ	 (2 σειρές)\n17:50	ΜΗΚΟΣ ΑΝΔΡΩΝ	 \n18:45 ή 19:00	4Χ400μ.  ΑΝΔΡΩΝ ΤΕΛ. ΣΕΙΡΕΣ\n19:00 ή 19:15	4Χ400μ.  ΓΥΝΑΙΚΩΝ ΤΕΛ. ΣΕΙΡΕΣ\n19:00	ΑΚΟΝΤΙΣΜΟΣ ΓΥΝΑΙΚΩΝ \n19:15 ή 19:40	10.000μ ΒΑΔΗΝ ΑΝΔΡΩΝ		(&5ος)\n19:20 ή 19:45	10.000μ ΒΑΔΗΝ ΓΥΝΑΙΚΩΝ		(&5ος) \n[τα 4χ400μ. και το βάδην θα ξεκινήσουν αναλογα με το πόσες σειρές θα γίνουν στα 5000μ.] \nΟι δηλώσεις συμμετοχής πρέπει να γίνουν ΜΟΝΟ ηλεκτρονικά στο αρχείο (excel)  της δήλωσης\, μέχρι την ΤΕΤΑΡΤΗ 10.05.2017 και ώρα 14.00 με e-mail\nστη διεύθυνση chriskarouzos@gmail.com  γράφουμε πρώτα το επώνυμο και μετά το όνομα \n7ος όμιλος – Κυρ.14/5 (& Σαβ.13/5 τα αναβληθέντα της 1ης αγωνιστικής) Ηράκλειο \nΣάββατο: \n17.00 Μήκος Γ\n17.00 Δίσκος  Α\n17.00 400  Α\n17.15 400 Γ\n17.15 Ύψος  Α\n17.55 Τριπλούν  Α\n17.55 1.500  Α\n18.10 1.500 Γ\n18.10 Σφαίρα  Α\n18.40 4 Χ 100 Α\n19.00 4 Χ 100 Γ \nΚυριακή: \n12.30 200 Α   Προκριματικός\n12.45 200 Γ  Προκριματικός\n14.20 400 Εμπ. Α\n14.30 400 Εμπ. Γ\n15.00 Ακόντιο  Α΄\n15.25 200 Α  Τελικός\n15.35 200 Γ Τελικός\n15.45 Μήκος Α\n16.15 Δίσκος  Γ\n16.15 800  Α\n16.25 800 Γ\n16.25 Ύψος  Γ\n16.45 Επί Κοντώ Γ\n17.05 Τριπλούν  Γ\n17.45 5.000 μ Α – Γ\n18.10 Σφαίρα  Γ\n18.10 4 Χ 400 Α\n18.25 4 Χ 400 Γ\n18.45 Επί Κοντώ Α
URL:https://www.stivoz.gr/event/11-2/
CATEGORIES:Ημερολόγιο αγώνων
END:VEVENT
END:VCALENDAR