BEGIN:VCALENDAR
VERSION:2.0
PRODID:-//StivoZ.gr - ECPv5.16.4//NONSGML v1.0//EN
CALSCALE:GREGORIAN
METHOD:PUBLISH
X-WR-CALNAME:StivoZ.gr
X-ORIGINAL-URL:https://www.stivoz.gr
X-WR-CALDESC:StivoZ.gr - Εκδηλώσεις
BEGIN:VTIMEZONE
TZID:Europe/Athens
BEGIN:DAYLIGHT
TZOFFSETFROM:+0200
TZOFFSETTO:+0300
TZNAME:EEST
DTSTART:20240331T010000
END:DAYLIGHT
BEGIN:STANDARD
TZOFFSETFROM:+0300
TZOFFSETTO:+0200
TZNAME:EET
DTSTART:20241027T010000
END:STANDARD
END:VTIMEZONE
BEGIN:VEVENT
DTSTART;VALUE=DATE:20240511
DTEND;VALUE=DATE:20240512
DTSTAMP:20260422T161033
CREATED:20240416T065116Z
LAST-MODIFIED:20240511T163244Z
UID:113794-1715385600-1715471999@www.stivoz.gr
SUMMARY:Πανελ.πρ. 10χλμ βάδην (Ξυλόκαστρο)
DESCRIPTION:κυκλική διαδρομή 1χλμ. ο γύρος\, ασφαλτοστρωμένη \nΣχετικά θέματα:\n– www.stivoz.gr/panellinio-10km-vadin-2024/ (αποτελέσματα) \nΠρόγραμμα: \n09:00 – 10χλμ. Ανδρών\, Κ23 Ανδρών\, Κ20 Ανδρών & Κ18\n09:01 – 10χλμ. Γυναικών\, Κ23 Γυναικών\, & Κ20 Γυναικών\n09:55 – 5χλμ. Κ18 Ανδρών\, Κ18 Γυναικών & Κ16 Αγοριών\n09:56 – 3χλμ. Κ16 Κοριτσιών \nΔηλώσεις συμμετοχής μέχρι και τη Δευτέρα 6 Μαΐου 2024 και ώρα 14:00\nστην ηλεκτρονική διεύθυνση entries@segas.gr
URL:https://www.stivoz.gr/event/10km-vadin-2024/
CATEGORIES:Ημερολόγιο αγώνων
END:VEVENT
END:VCALENDAR