BEGIN:VCALENDAR
VERSION:2.0
PRODID:-//StivoZ.gr - ECPv5.16.4//NONSGML v1.0//EN
CALSCALE:GREGORIAN
METHOD:PUBLISH
X-WR-CALNAME:StivoZ.gr
X-ORIGINAL-URL:https://www.stivoz.gr
X-WR-CALDESC:StivoZ.gr - Εκδηλώσεις
BEGIN:VTIMEZONE
TZID:Europe/Athens
BEGIN:STANDARD
TZOFFSETFROM:+0200
TZOFFSETTO:+0200
TZNAME:EET
DTSTART:20120101T000000
END:STANDARD
END:VTIMEZONE
BEGIN:VEVENT
DTSTART;VALUE=DATE:20120603
DTEND;VALUE=DATE:20260421
DTSTAMP:20260420T103204
CREATED:20120510T071404Z
LAST-MODIFIED:20220209T080152Z
UID:28681-1338681600-0@www.stivoz.gr
SUMMARY:Πανελ.Πρ. 10.000μ Α/Γ (Μέγαρα)
DESCRIPTION:Σχετικά θέματα:\n– www.stivoz.com/forum/showthread.php?6947\n– www.stivoz.com/forum/showthread.php?6972\n– www.stivoz.com/forum/showthread.php?6973 (αποτελέσματα) \n– www.sportsphotoz.com/?page_id=1039 (φωτογραφίες) \nΠρόγραμμα:\n19:00 10.000μ. Ανδρών & Νέων (Α) Α΄ τελ.σειρά\n19:45 10.000μ. Ανδρών & Νέων (Α) Β΄ τελ.σειρά\n20:30 10.000μ. Γυναικών & Νέων (Γ) τελικός
URL:https://www.stivoz.gr/event/10ari-2012/
CATEGORIES:Ημερολόγιο αγώνων
END:VEVENT
END:VCALENDAR