BEGIN:VCALENDAR
VERSION:2.0
PRODID:-//StivoZ.gr - ECPv5.16.4//NONSGML v1.0//EN
CALSCALE:GREGORIAN
METHOD:PUBLISH
X-WR-CALNAME:StivoZ.gr
X-ORIGINAL-URL:https://www.stivoz.gr
X-WR-CALDESC:StivoZ.gr - Εκδηλώσεις
BEGIN:VTIMEZONE
TZID:Europe/Athens
BEGIN:STANDARD
TZOFFSETFROM:+0200
TZOFFSETTO:+0200
TZNAME:EET
DTSTART:20110101T000000
END:STANDARD
END:VTIMEZONE
BEGIN:VEVENT
DTSTART;VALUE=DATE:20110514
DTEND;VALUE=DATE:20260427
DTSTAMP:20260426T000236
CREATED:20110113T135346Z
LAST-MODIFIED:20220209T080158Z
UID:28576-1305331200-0@www.stivoz.gr
SUMMARY:Πανελλήνιο 10.000μ Α/Γ & Ορσίππεια (Μέγαρα)
DESCRIPTION:Σχετικά θέματα για Π.Π.10χλμ:\n– http://www.stivoz.gr/?p=10291\n– http://www.stivoz.com/forum/showthread.php?5016 \nΑποτελέσματα:\n– http://www.stivoz.gr/?p=16883 (Ορσίππεια)\n– http://www.stivoz.gr/?p=16882 (10χλμ) \nΩΡΟΛΟΓΙΟ ΠΡΟΓΡΑΜΜΑ \n17.00 80μ ΠΠΑ\n17.15 80μ ΠΚΑ\n17.30 100μ Α –\n17:30 ΣΦΑΙΡΑ Α\n17.40 200μ Γ\n17:50 300μ ΠΚΑ\n18:00 300μ ΠΠΑ –\n18:00 ΣΦΑΙΡΑ Γ\n18:10 800μ Α-Π\n18:20 800μ Γ-Κ\n18:30 ΥΨΟΣ ΠΚΑ\n19:00 ΜΗΚΟΣ Γ- Κ\n19:30 ΜΗΚΟΣ Α – Π  \n19.00 – 10.000μ. Ανδρών και Νέων Ανδρών -Α΄σειρά\n19.45 – 10.000μ. Ανδρών και Νέων Ανδρών -Β΄σειρά\n20.30 – 10.000μ. Γυναικών & Νέων Γυναικών
URL:https://www.stivoz.gr/event/10ari-2011/
CATEGORIES:Ημερολόγιο αγώνων
END:VEVENT
END:VCALENDAR